BEGIN:VCALENDAR
VERSION:2.0
PRODID:-//wp-events-plugin.com//7.2.3.1//EN
TZID:Europe/Berlin
X-WR-TIMEZONE:Europe/Berlin
BEGIN:VEVENT
UID:3@stpatricksday.de
DTSTART;TZID=Europe/Berlin:20250315T110000
DTEND;TZID=Europe/Berlin:20250315T173000
DTSTAMP:20250128T134446Z
URL:https://www.stpatricksday.de/events/st-patricks-day-muenchen-2025-pre-
 parade-party/
SUMMARY:St. Patrick's Day München 2025 - Pre-Parade-Party
DESCRIPTION:Das zweitägige „Food-Festival“ findet Samstags und Sonntag
 s statt. Bereits zum dritten Mal verwandelt sich dabei am Samstag der Odeo
 nsplatz zu einer riesigen Irish-Festival-Bühne. Das irisch geprägte Prog
 ramm richtet sich hier bewusst an ein jüngeres Publikum und präsentiert 
 international bekannte Bands.\n\nFür die kulinarischen Leckerbissen\, spr
 ich die Spezialitäten aus Irland und dem Rest der Welt\, kümmern sich di
 e Crews der verschiedenen Food-Trucks. Als Durstlöscher werden Biere aus 
 Deutschland und Irland sowie andere Getränke angeboten.\n\n 	MC:&nbsp\; J
 ohn Dunne\n\n 	11.30 – 13.00&nbsp\;MC:&nbsp\;&nbsp\;John Dunne /&nbsp\;D
 empsey &amp\; Mcclenaghan\n 	13.15 – 14.45&nbsp\;Augusta Ceili Band\n 	1
 5.00 – 16.15 Owen Gerrard Band&nbsp\;&nbsp\;&nbsp\;&nbsp\;&nbsp\;&nbsp\;
 &nbsp\;&nbsp\;&nbsp\;&nbsp\;&nbsp\;&nbsp\;&nbsp\;&nbsp\;&nbsp\;\n 	16.30 
 – 17.30 The Monks\n
LOCATION:Odeonsplatz\, Odeonspl. 1\, München\, Bayern/Deutschland\, 80539\
 , Deutschland
X-APPLE-STRUCTURED-LOCATION;VALUE=URI;X-ADDRESS=Odeonspl. 1\, München\, Ba
 yern/Deutschland\, 80539\, Deutschland;X-APPLE-RADIUS=100;X-TITLE=Odeonspl
 atz:geo:0,0
END:VEVENT
BEGIN:VEVENT
UID:2@stpatricksday.de
DTSTART;TZID=Europe/Berlin:20250316T120000
DTEND;TZID=Europe/Berlin:20250316T180000
DTSTAMP:20250128T134840Z
URL:https://www.stpatricksday.de/events/st-patricks-day-muenchen-2025/
SUMMARY:St. Patrick’s Day München 2025
DESCRIPTION:\n\nDie Parade beginnt um 12:00 Uhr an der Münchner Freiheit\,
  über die Ludwigstraße zum Odeonsplatz. Da der Odeonsplatz der Knotenpun
 kt für alle Aktivitäten nach der Parade ist\, wird empfohlen\, sich übe
 r die Paradestrecke zu verteilen\, um eine Überfüllung in der Nähe des 
 Odeonsplatzes zu vermeiden. Im Anschluss gibt es ein buntes Bühnenprogram
 m.\n\nOdeonsplatz - Feldherrnhalle:\n\n 	MC:&nbsp\; John Dunne\n\n 	13.00 
 – 14.15 Celtic Invasion&nbsp\;\n 	14.30 – 15.45 Burning Biscuit Band \
 n 	16.00 – 17.00 Cellarfolks\n\nBühne Odeonsplatz Nord:\n\n 	13.00 – 
 13.40 Begrüßung mit&nbsp\;Frank McLynn\nNationalhymne "Cór na nGael"&nb
 sp\;\n\n 	13.50 – 14.30&nbsp\;Dieter Reiter mit Paul Daly Band\n 	14.35 
 – 15.10 Sequel&nbsp\;\n 	15.15 – 15.45 Owen Gerrard Band\n 	15.50 – 
 16.15 Rince O’Croi\n 	16.15 – 16.30 Celtic Colleens\n 	16.30 – 17.00
  Emeralds&nbsp\; + Summerstorm\n\n 	17.00 - 17.50 Munich Ceili Band\n
END:VEVENT
BEGIN:VEVENT
UID:5@stpatricksday.de
DTSTART;TZID=Europe/Berlin:20251031T180000
DTEND;TZID=Europe/Berlin:20251031T203000
DTSTAMP:20251029T064455Z
URL:https://www.stpatricksday.de/events/spirit-meets-spirituality-31-oktob
 er-2025-pfarrkirche-st-georg/
SUMMARY:Spirit meets Spirituality – 31 Oktober 2025 Pfarrkirche St. Georg
DESCRIPTION:\nEin außergewöhnlicher Abend\, an dem schottisch-irische Kl
 änge auf spirituelle Besinnung treffen:\n🕕&nbsp\;18:00 Uhr – Andacht
 Mit Pipes and Drums aus dem Allgäu (Dudelsack\, Trommeln)\,Maryte Löffle
 r (Celtic Voices)und Marco Muggianu (Orgel).\n🕖&nbsp\;19:00 Uhr – Sch
 ottisch-irischer Abend im PfarrsaalMit Whisky-Ausschank\, Whisky-Raritäte
 n-Verkostung\, Tombola und vielem mehr.\nEintritt frei!Spenden sind willko
 mmen und kommen dem Sozialpatenprojekt sowie der Lebensmittelausgabe des P
 farrverbandes zugute.\nPfarrkirche St. Georg\, Milbertshofener Platz 2\, 8
 0809 München-Milbertshofen\nAnfahrt:Bus 177 Haltestelle&nbsp\;Milbertshof
 ener PlatzU2&nbsp\;Milbertshofen&nbsp\;oder&nbsp\;Frankfurter Ring
END:VEVENT
BEGIN:VEVENT
UID:9@stpatricksday.de
DTSTART;TZID=Europe/Berlin:20260313T190000
DTEND;TZID=Europe/Berlin:20260313T210000
DTSTAMP:20260312T132703Z
URL:https://www.stpatricksday.de/events/great-irish-poets-songbook-13-03-2
 026/
SUMMARY:Great Irish Poets Songbook 13.03.2026
DESCRIPTION:original song cycles by james hurley\n\njames hurley piano\ndea
 n power tenor\n13 März 2026\n\nLudwigskirche Pfarrsaal\, Ludwigstrasse&nb
 sp\;22\n\nEinlass : 18:30 – Konzert 19:00
END:VEVENT
BEGIN:VEVENT
UID:7@stpatricksday.de
DTSTART;TZID=Europe/Berlin:20260314T110000
DTEND;TZID=Europe/Berlin:20260314T173000
DTSTAMP:20260204T074920Z
URL:https://www.stpatricksday.de/events/st-patricks-day-pre-parade-party-2
 026/
SUMMARY:St. Patrick´s Day – Pre-Parade Party 2026
DESCRIPTION:Das zweitägige „Food-Festival“ findet Samstags und Sonntag
 s statt. Bereits zum sechsten Mal verwandelt sich dabei am Samstag der Ode
 onsplatz zu einer riesigen Irish-Festival-Bühne. Das irisch geprägte Pro
 gramm richtet sich hier bewusst an ein jüngeres Publikum und präsentiert
  international bekannte Bands. Als Moderator führt Steve Daly durchs St. 
 Patrick´s Day Warm-Up.\n\nFür die kulinarischen Leckerbissen\, sprich di
 e Spezialitäten aus Irland und dem Rest der Welt\, kümmern sich die Crew
 s der verschiedenen Food-Trucks. Als Durstlöscher werden Biere aus Deutsc
 hland und Irland sowie andere Getränke angeboten.\n\nSamstag 14.03.2026 O
 deonsplatz – Feldherrnhalle:\n\n 	11 Uhr Start\n 	11:30 - 12:45 Galway T
 rad Soc\n 	13:00 - 14: 15 O'Konrads\n 	14:30 - 15:15&nbsp\; Moffatt School
  of Irish Dancing\n 	15:30 - 16:45 Rubicon\n 	16:55 HARD STOP NO LIVE MUSI
 C - Church Service\n 	17:30 END\n
END:VEVENT
BEGIN:VEVENT
UID:4@stpatricksday.de
DTSTART;TZID=Europe/Berlin:20260314T180000
DTEND;TZID=Europe/Berlin:20260314T200000
DTSTAMP:20260224T050840Z
URL:https://www.stpatricksday.de/events/messe-zum-st-patrick-day-14-maerz-
 2026-in-st-ludwig/
SUMMARY:Messe zum St. Patrick Day - 14. März 2026 in St. Ludwig
DESCRIPTION:\nUm 18:00 Uhr Messe &amp\; Konzert in St. Ludwig auf Englisch\
 , Deutsch und Gälisch\n„The Mass of St. Patrick“komponiert von Pfarre
 r Liam Lawton\nZelebrant: Dr. Stephan Kappler\nMitwirkende:Chor des Pestal
 ozzi-Gymnasiums\, MünchenFrances Lucey (Sopran)Chris Couperthwaite (Dudel
 sack)University of Galway Trad Soc (Trad. Musiker)Stephan Heuberger (Orgel
  &amp\; Klavier)\n18:00 Uhr Messe &amp\; Konzert in St. Ludwig\nLudwigstr.
  22\n&nbsp\;\n\n&nbsp\;
LOCATION:St. Ludwig München\, Ludwigstraße 22\, München\, Bayern/Deutsch
 land\, 80539\, Deutschland
X-APPLE-STRUCTURED-LOCATION;VALUE=URI;X-ADDRESS=Ludwigstraße 22\, München
 \, Bayern/Deutschland\, 80539\, Deutschland;X-APPLE-RADIUS=100;X-TITLE=St.
  Ludwig München:geo:0,0
END:VEVENT
BEGIN:VEVENT
UID:10@stpatricksday.de
DTSTART;TZID=Europe/Berlin:20260314T200000
DTEND;TZID=Europe/Berlin:20260314T223000
DTSTAMP:20260213T115708Z
URL:https://www.stpatricksday.de/events/muenchner-irische-nacht-2026/
SUMMARY:Münchner Irische Nacht 2026
DESCRIPTION:\n\n[caption id="attachment_2917" align="aligncenter" width="68
 3"] Foto: Irische Nacht[/caption]\n\nDie Iren und die Schotten verbindet n
 icht nur der Regen\, Schafe auf die Weide\, grüne Landschaften\, rote Haa
 re und Whiskey – das „Wasser des Lebens“ – sondern auch ihre Leben
 sfreude\, die gälische Sprache\, mitreißende Reels und Jigs sowie ihre L
 iebe zum Tanz.\n\nDiese Gemeinsamkeiten wollen wir am&nbsp\;Samstag\, den 
 14.03.2026\, im&nbsp\;Wirtshaus im Schlachthof\, München&nbsp\;feiern.\n\
 nNeben der Host-Band&nbsp\;„The Paul Daly Band“&nbsp\;treten auf:\n\n 
 	die Tanzgruppe der in München ansässigen&nbsp\;Munich Scottish Associat
 ion (MSA)\n 	die&nbsp\;Kleinstepiperband&nbsp\;von Reinhold Birkhofer mit 
 seinen Söhnen\n\nSpecial Guests:\n\n 	Sängerin&nbsp\;Tanja-Maria(Münche
 n)\n\nSei dabei am Vorabend der&nbsp\;Münchner St. Patrick’s Day Parade
 &nbsp\;und erlebe traditionelle und moderne Songs\, gefühlvolle Balladen 
 aus Schottland und Irland – zum Zuhören\, Mitklatschen oder Mitsingen.\
 n\nUnter dem irischen Motto:\n„Ein Fremder ist ein Freund\, den man nur 
 noch nicht getroffen hat.“\n\nTickets&gt\;&gt\;\n\n\nhttps://pauldalyban
 d.de\n14.03.2026 | Samstag\n20:00 | Einlass ab 18:00\n\n\n&nbsp\;\n\nVVK 
 € 27\,80 / AK € 31\,00\nSofern die Vorstellung nicht ausverkauft ist\,
  können noch Restkarten an der Abendkasse erworben werden.\n\n\n
LOCATION:Wirtshaus im Schlachthof\, Zenettistraße 9\, München\, Bayern\, 
 80337 \, Deutschland
X-APPLE-STRUCTURED-LOCATION;VALUE=URI;X-ADDRESS=Zenettistraße 9\, München
 \, Bayern\, 80337 \, Deutschland;X-APPLE-RADIUS=100;X-TITLE=Wirtshaus im S
 chlachthof:geo:0,0
END:VEVENT
BEGIN:VEVENT
UID:8@stpatricksday.de
DTSTART;TZID=Europe/Berlin:20260315T120000
DTEND;TZID=Europe/Berlin:20260315T180000
DTSTAMP:20260131T125946Z
URL:https://www.stpatricksday.de/events/st-patricks-day-parade-2026-buehne
 nprogramm/
SUMMARY:St. Patrick’s Day Parade 2026 & Bühnenprogramm
DESCRIPTION:Die Parade beginnt um 12:00 Uhr an der Münchner Freiheit\, üb
 er die Ludwigstraße zum Odeonsplatz. Da der Odeonsplatz der Knotenpunkt f
 ür alle Aktivitäten nach der Parade ist\, wird empfohlen\, sich über di
 e Paradestrecke zu verteilen\, um eine Überfüllung in der Nähe des Odeo
 nsplatzes zu vermeiden. Im Anschluss gibt es ein buntes Bühnenprogramm.\n
 \n&nbsp\;\n\nSat 14.03\n\n\n 	11 Uhr Start\n 	11:430 – 12:45 Galway Trad
  Soc\n 	13:00 – 14: 15 O’Konrads\n 	14:30 – 15:15&nbsp\; Moffatt Sch
 ool of Irish Dancing\n 	15:30 – 16:45 Rubicon\n 	16:55 HARD STOP NO LIVE
  MUSIC - Church Service\n 	17:30 END\n\n\n\n\n\nSun 15.03\nOdeonsplatz –
  Feldherrnhalle\n\n 	12 Uhr Start\n 	13:00 – 14:30 Galway Trad Soc\n 	14
 :45 – 16:15 Project M\n 	16:30 – 17:50 Cellarfolks\n\n 	18:00 END\n 	&
 nbsp\;\n\n\n\nOdeonsplatz Nord – After Parade Party\n\n 	13:00 Start\n 	
 13:00 – 13:40 Speeches + National Anthem\n 	13:50 – 14:30 Dieter Reite
 r &amp\; Paul Daly Band\n 	14:45 – 15:25 Rubicon\n 	15:30 – 16:00 Rinc
 e O’Croi &amp\; Sweeney Irish Dancing\n 	16:00 – 16:15 Celtic Colleens
 \n 	16:20 –&nbsp\; 17:00 Galway Trad Soc\n 	16:45 – 17:00 Galway Trad 
 Soc – joined by Moffatt School of Irish Dancing\n 	17:00 – 17:50 Munic
 h Ceili Band\n18:00 END\n\n
END:VEVENT
BEGIN:VTIMEZONE
TZID:Europe/Berlin
X-LIC-LOCATION:Europe/Berlin
BEGIN:STANDARD
DTSTART:20241027T020000
TZOFFSETFROM:+0200
TZOFFSETTO:+0100
TZNAME:CET
END:STANDARD
BEGIN:DAYLIGHT
DTSTART:20250330T030000
TZOFFSETFROM:+0100
TZOFFSETTO:+0200
TZNAME:CEST
END:DAYLIGHT
BEGIN:STANDARD
DTSTART:20251026T020000
TZOFFSETFROM:+0200
TZOFFSETTO:+0100
TZNAME:CET
END:STANDARD
END:VTIMEZONE
END:VCALENDAR