BEGIN:VCALENDAR
VERSION:2.0
PRODID:-//St. Patrick´s Day München - ECPv6.15.20//NONSGML v1.0//EN
CALSCALE:GREGORIAN
METHOD:PUBLISH
X-ORIGINAL-URL:https://www.stpatricksday.de
X-WR-CALDESC:Veranstaltungen für St. Patrick´s Day München
REFRESH-INTERVAL;VALUE=DURATION:PT1H
X-Robots-Tag:noindex
X-PUBLISHED-TTL:PT1H
BEGIN:VTIMEZONE
TZID:Europe/Berlin
BEGIN:DAYLIGHT
TZOFFSETFROM:+0100
TZOFFSETTO:+0200
TZNAME:CEST
DTSTART:20250330T010000
END:DAYLIGHT
BEGIN:STANDARD
TZOFFSETFROM:+0200
TZOFFSETTO:+0100
TZNAME:CET
DTSTART:20251026T010000
END:STANDARD
BEGIN:DAYLIGHT
TZOFFSETFROM:+0100
TZOFFSETTO:+0200
TZNAME:CEST
DTSTART:20260329T010000
END:DAYLIGHT
BEGIN:STANDARD
TZOFFSETFROM:+0200
TZOFFSETTO:+0100
TZNAME:CET
DTSTART:20261025T010000
END:STANDARD
BEGIN:DAYLIGHT
TZOFFSETFROM:+0100
TZOFFSETTO:+0200
TZNAME:CEST
DTSTART:20270328T010000
END:DAYLIGHT
BEGIN:STANDARD
TZOFFSETFROM:+0200
TZOFFSETTO:+0100
TZNAME:CET
DTSTART:20271031T010000
END:STANDARD
END:VTIMEZONE
BEGIN:VEVENT
DTSTART;TZID=Europe/Berlin:20260630T190000
DTEND;TZID=Europe/Berlin:20260630T220000
DTSTAMP:20260424T165728
CREATED:20260309T114119Z
LAST-MODIFIED:20260309T114119Z
UID:3066-1782846000-1782856800@www.stpatricksday.de
SUMMARY:Dropkick Murphys - irischer Punkrock auf dem Tollwood Sommerfestival 2026
DESCRIPTION:Punk oder Folk? Beides – mit den Dropkick Murphys am 30. Juni 2026 in der Musik-Arena des Tollwood Sommerfestivals. Die Band verbindet treibende Gitarrenriffs\, kraftvolles Schlagzeug und irische Folk-Melodien zu einem intensiven Live-Erlebnis. \nMit Songs wie „Shipping Up to Boston“ und „Rose Tattoo“ zieht die Band ihr Publikum in den Bann. Dudelsackklänge\, treibende Rhythmen und mitreißender Gesang verschmelzen zu einem Sound\, der zugleich rau und melodisch ist. Fans singen mit\, klopfen im Takt auf die Bänke oder tanzen zwischen den Zeltreihen – die Musik-Arena wird zum Treffpunkt dieser Gemeinschaft. \n„For the People“ – wie das aktuelle Album verspricht. \n\nLiebe Tollwood-Besucher*innen\, bitte beachten Sie die aktuellen Sicherheitshinweise für die Musik-Arena. Es werden Taschenkontrollen und Bodychecks durchgeführt. Wir bitten alle Besucher*innen auf die Mitnahme größerer Rucksäcke und Taschen zu verzichten\, um die Einlasskontrollen zu beschleunigen. \nEinlass: 18:00 Uhr\nBeginn: 19:00 Uhr\nEnde: max. 22:00 Uhr \nTickets >> \nteilen teilen teilen 
URL:https://www.stpatricksday.de/event/dropkick-murphys-irischer-punkrock-auf-dem-tollwood-sommerfestival-2026/
LOCATION:Tollwood Sommerfestival\, Spiridon-Louis-Ring\, München\, Bayern\, 80809\, Germany
CATEGORIES:Konzerte
ATTACH;FMTTYPE=image/jpeg:https://www.stpatricksday.de/wp-content/uploads/2026/03/Dropkick-Murphys-irischer-Punkrock-auf-dem-Tollwood-Sommerfestival-2026.jpg
END:VEVENT
END:VCALENDAR